BEGIN:VCALENDAR
VERSION:2.0
PRODID:-//ChamberMaster//Event Calendar 2.0//EN
METHOD:PUBLISH
X-PUBLISHED-TTL:P1H
REFRESH-INTERVAL:P1H
CALSCALE:GREGORIAN
BEGIN:VTIMEZONE
TZID:America/New_York
BEGIN:DAYLIGHT
RRULE:FREQ=YEARLY;BYMONTH=3;BYDAY=2SU
DTSTART:20070101T000000
TZOFFSETFROM:-0500
TZOFFSETTO:-0400
TZNAME:Eastern Daylight Time
END:DAYLIGHT
BEGIN:STANDARD
RRULE:FREQ=YEARLY;BYMONTH=11;BYDAY=1SU
DTSTART:20070101T000000
TZOFFSETFROM:-0400
TZOFFSETTO:-0500
TZNAME:Eastern Standard Time
END:STANDARD
END:VTIMEZONE
BEGIN:VEVENT
DTSTART;TZID=America/New_York:20260516T080000
DTEND;TZID=America/New_York:20260516T090000
X-MICROSOFT-CDO-ALLDAYEVENT:FALSE
SUMMARY:Wheels & Wings Festival 5K
DESCRIPTION:The Wheels & Wings Festival 5K is an annual 5K benefit sponsored by the Rotary Club of Lancaster. This event raises funds for the Summer Youth Experience in partnership with United Way of Lancaster County. The family-friendly run/walk takes place on the campus of Brethren Village\, directly across from the Lancaster Airport. With minimal elevation changes\, this course is enjoyable for all - runners\, walkers\, strollers! Join us after the 5K for music\, food\, children's area\, car show\, and aircraft display!\n\nRace registration: \nhttps://runsignup.com/Race/PA/Lititz/WheelsWingsFestival5K
X-ALT-DESC;FMTTYPE=text/html:<!DOCTYPE html><html><head><title></title></head><body aria-disabled="false"><p><span style="color: rgb(0\, 0\, 0)\; font-family: Arial\, Helvetica\, sans-serif\; font-size: 14px\; font-style: normal\; font-variant-ligatures: normal\; font-variant-caps: normal\; font-weight: 400\; letter-spacing: normal\; orphans: 2\; text-align: start\; text-indent: 0px\; text-transform: none\; widows: 2\; word-spacing: 0px\; -webkit-text-stroke-width: 0px\; white-space: normal\; background-color: rgb(255\, 255\, 255)\; text-decoration-thickness: initial\; text-decoration-style: initial\; text-decoration-color: initial\; float: none\; display: inline !important\;">The Wheels &amp\; Wings Festival 5K is an annual 5K benefit sponsored by the Rotary Club of Lancaster. This event raises funds for the Summer Youth Experience in partnership with United Way of Lancaster County. The family-friendly run/walk takes place on the campus of Brethren Village\, directly across from the Lancaster Airport. With minimal elevation changes\, this course is enjoyable for all - runners\, walkers\, strollers! Join us after the 5K for music\, food\, children&#39\;s area\, car show\, and aircraft display!</span><br><br><span style="color: rgb(0\, 0\, 0)\; font-family: Arial\, Helvetica\, sans-serif\; font-size: 14px\; font-style: normal\; font-variant-ligatures: normal\; font-variant-caps: normal\; font-weight: 400\; letter-spacing: normal\; orphans: 2\; text-align: start\; text-indent: 0px\; text-transform: none\; widows: 2\; word-spacing: 0px\; -webkit-text-stroke-width: 0px\; white-space: normal\; background-color: rgb(255\, 255\, 255)\; text-decoration-thickness: initial\; text-decoration-style: initial\; text-decoration-color: initial\; float: none\; display: inline !important\;">Race registration:&nbsp\;</span><br><span style="color: rgb(0\, 0\, 0)\; font-family: Arial\, Helvetica\, sans-serif\; font-size: 14px\; font-style: normal\; font-variant-ligatures: normal\; font-variant-caps: normal\; font-weight: 400\; letter-spacing: normal\; orphans: 2\; text-align: start\; text-indent: 0px\; text-transform: none\; widows: 2\; word-spacing: 0px\; -webkit-text-stroke-width: 0px\; white-space: normal\; background-color: rgb(255\, 255\, 255)\; text-decoration-thickness: initial\; text-decoration-style: initial\; text-decoration-color: initial\; float: none\; display: inline !important\;"><a fr-original-style="" href="https://runsignup.com/Race/PA/Lititz/WheelsWingsFestival5K" style="user-select: auto\; color: inherit\;">https://runsignup.com/Race/PA/Lititz/WheelsWingsFestival5K</a></span></p></body></html>
LOCATION:
UID:e.3427.1437727
SEQUENCE:3
DTSTAMP:20260420T040318Z
URL:https://lancasterchamber.growthzoneapp.com/chambereventcalendar/Details/wheels-wings-festival-5k-1701672?sourceTypeId=Hub
END:VEVENT
END:VCALENDAR
