BEGIN:VCALENDAR
VERSION:2.0
PRODID:-//ChamberMaster//Event Calendar 2.0//EN
METHOD:PUBLISH
X-PUBLISHED-TTL:P1H
REFRESH-INTERVAL:P1H
CALSCALE:GREGORIAN
BEGIN:VTIMEZONE
TZID:America/New_York
BEGIN:DAYLIGHT
RRULE:FREQ=YEARLY;BYMONTH=3;BYDAY=2SU
DTSTART:20070101T000000
TZOFFSETFROM:-0500
TZOFFSETTO:-0400
TZNAME:Eastern Daylight Time
END:DAYLIGHT
BEGIN:STANDARD
RRULE:FREQ=YEARLY;BYMONTH=11;BYDAY=1SU
DTSTART:20070101T000000
TZOFFSETFROM:-0400
TZOFFSETTO:-0500
TZNAME:Eastern Standard Time
END:STANDARD
END:VTIMEZONE
BEGIN:VEVENT
DTSTART;TZID=America/New_York:20260421T110000
DTEND;TZID=America/New_York:20260421T120000
X-MICROSOFT-CDO-ALLDAYEVENT:FALSE
SUMMARY:What's Next Webinar: Economic Trends\, Energy Markets and the Business Impact Ahead
DESCRIPTION:What's Next Webinar: Economic Trends\, Energy Markets and the Business Impact AheadTuesday\, April 21\, 202611 a.m. to Noon\, ETFrom cost pressures to planning challenges\, economic uncertainty and energy market volatility are impacting the business landscape. Join RKL for our "What's Next" webinar\, where we'll provide an economic market update followed by a focused discussion regarding energy markets\, pricing volatility and related planning for businesses. Join us for a timely\, practical conversation on:The key economic trends influencing business conditionsInflation\, interest rates and broader market uncertaintyHow rising oil prices and fuel market volatility are affecting costs\, margins and planningWhat businesses are doing to respond to ongoing volatility The issues leaders should keep on their radar in the months aheadPanelists:Brandon Adams\, CPA\, CAIA\, Chief Investment Officer\, RKL Private WealthEmily Detz\, CFA\, CAIA\, Senior Portfolio Manager\, RKL Private WealthJosh Rode\, General Manager of Wholesale Fuels\, Shipley EnergyRachel Sargent\, CPA\, Chief Operating Officer\, RKL LLPEric Wenger\, CPA\, MST\, Lancaster Office Managing Partner\, RKL LLPSecure your spot now and earn one CPE credit (Economics).REGISTER TODAY: https://info.rklcpa.com/economy
X-ALT-DESC;FMTTYPE=text/html:<!DOCTYPE html><html><head><title></title></head><body aria-disabled="false" data-gr-ext-installed="" data-new-gr-c-s-check-loaded="14.1282.0" data-new-gr-c-s-loaded="14.1282.0" spellcheck="false"><p><strong fr-original-style="" style="font-weight: 700\;">What&#39\;s Next Webinar: Economic Trends\, Energy Markets and the Business Impact Ahead</strong></p><p>Tuesday\, April 21\, 2026</p><p>11 a.m. to Noon\, ET</p><p>From cost pressures to planning challenges\, economic uncertainty and energy market volatility are impacting the business landscape. Join RKL for our &ldquo\;What&rsquo\;s Next&rdquo\; webinar\, where we&rsquo\;ll provide an economic market update followed by a focused discussion regarding energy markets\, pricing volatility and related planning for businesses.</p><p>&nbsp\;Join us for a timely\, practical conversation on:</p><ul fr-original-style="" style="list-style-position: inside\;"><li>The key economic trends influencing business conditions</li><li>Inflation\, interest rates and broader market uncertainty</li><li>How rising oil prices and fuel market volatility are affecting costs\, margins and planning</li><li>What businesses are doing to respond to ongoing volatility</li><li><span style="white-space:pre\;">&nbsp\;</span>The issues leaders should keep on their radar in the months ahead</li></ul><p>Panelists:</p><ul fr-original-style="" style="list-style-position: inside\;"><li>Brandon Adams\, CPA\, CAIA\, Chief Investment Officer\, RKL Private Wealth</li><li>Emily Detz\, CFA\, CAIA\, Senior Portfolio Manager\, RKL Private Wealth</li><li>Josh Rode\, General Manager of Wholesale Fuels\, Shipley Energy</li><li>Rachel Sargent\, CPA\, Chief Operating Officer\, RKL LLP</li><li>Eric Wenger\, CPA\, MST\, Lancaster Office Managing Partner\, RKL LLP</li></ul><p>Secure your spot now and earn one CPE credit (Economics).</p><p><strong fr-original-style="" style="font-weight: 700\;">REGISTER TODAY:&nbsp\;</strong><a fr-original-style="" href="https://info.rklcpa.com/economy" style="user-select: auto\;"><strong fr-original-style="" style="font-weight: 700\;">https://info.rklcpa.com/economy</strong></a></p><p><br></p></body></html>
LOCATION:
UID:e.3427.1442922
SEQUENCE:3
DTSTAMP:20260420T041804Z
URL:https://lancasterchamber.growthzoneapp.com/chambereventcalendar/Details/what-s-next-webinar-economic-trends-energy-markets-and-the-business-impact-ahead-1709020?sourceTypeId=Hub
END:VEVENT
END:VCALENDAR
