BEGIN:VCALENDAR
VERSION:2.0
PRODID:-//ChamberMaster//Event Calendar 2.0//EN
METHOD:PUBLISH
X-PUBLISHED-TTL:P1H
REFRESH-INTERVAL:P1H
CALSCALE:GREGORIAN
BEGIN:VTIMEZONE
TZID:America/New_York
BEGIN:DAYLIGHT
RRULE:FREQ=YEARLY;BYMONTH=3;BYDAY=2SU
DTSTART:20070101T000000
TZOFFSETFROM:-0500
TZOFFSETTO:-0400
TZNAME:Eastern Daylight Time
END:DAYLIGHT
BEGIN:STANDARD
RRULE:FREQ=YEARLY;BYMONTH=11;BYDAY=1SU
DTSTART:20070101T000000
TZOFFSETFROM:-0400
TZOFFSETTO:-0500
TZNAME:Eastern Standard Time
END:STANDARD
END:VTIMEZONE
BEGIN:VEVENT
DTSTART;TZID=America/New_York:20260425T110000
DTEND;TZID=America/New_York:20260425T120000
X-MICROSOFT-CDO-ALLDAYEVENT:FALSE
SUMMARY:Storytime at the Heart Gallery & Market
DESCRIPTION:Join us for a fun filled Saturday as we gather for a live reading of Drawn to Be You\, created by social media icon Drawings By Trent along with his parents Corey and Andrea. This graphic story celebrates the differences that make each of us unique and reminds readers that everyone belongs\, no matter their abilities.Enjoy this story and more in an inclusive and welcoming environment while learning more about autism through the beauty of art and storytelling.Purchase tickets now - limited spots are available!Each ticket includes:Admission for one individual and an accompanying caregiver or guardian Limited-edition Drawings by Trent sketchbookWatercolor setGuided watercolor activity Live reading of Drawn To Be You by one of our Friendship Community friends *A quiet room will be available for anyone who may need a break.
X-ALT-DESC;FMTTYPE=text/html:<!DOCTYPE html><html><head><title></title></head><body aria-disabled="false"><section data-scroll-anchor="false" data-testid="conversation-turn-4" data-turn="assistant" data-turn-id="request-WEB:6e6115bf-3a02-4d43-a806-3a0dd52f5207-1" dir="auto"><div data-message-author-role="assistant" data-message-id="dcb68adf-cb5c-498d-9e21-f512575fa224" data-message-model-slug="gpt-5-3-mini" data-turn-start-message="true" dir="auto" tabindex="0"><p data-end="175" data-start="0">Join us for a fun filled Saturday as we gather for a live reading of <em data-end="86" data-start="69">Drawn to Be You</em>\, created by social media icon Drawings By Trent along with his parents Corey and Andrea. This graphic story celebrates the differences that make each of us unique and reminds readers that everyone belongs\, no matter their abilities.</p></div></section><p>Enjoy this story and more in an inclusive and welcoming environment while learning more about autism through the beauty of art and storytelling.</p><p><a fr-original-style="" href="https://wl.donorperfect.net/weblink/weblink.aspx?name=fc&id=67" style="user-select: auto\;"><strong fr-original-style="" style="font-weight: 700\;"><u>Purchase tickets now - limited spots are available!</u></strong></a></p><p><strong fr-original-style="" style="font-weight: 700\;">Each ticket includes:</strong></p><ul fr-original-style="" style="list-style-position: inside\;"><li>Admission for one individual and an accompanying caregiver or guardian&nbsp\;</li><li>Limited-edition Drawings by Trent sketchbook</li><li>Watercolor set</li><li>Guided watercolor activity&nbsp\;</li><li>Live reading of <em>Drawn To Be You</em> by one of our Friendship Community friends&nbsp\;</li></ul><p><em>*A quiet room will be available for anyone who may need a break.</em></p></body></html>
LOCATION:118 N Water St.\, Suite 102 Lancaster PA 17603
UID:e.3427.1442804
SEQUENCE:3
DTSTAMP:20260420T040305Z
URL:https://lancasterchamber.growthzoneapp.com/chambereventcalendar/Details/storytime-at-the-heart-gallery-market-1708923?sourceTypeId=Hub
END:VEVENT
END:VCALENDAR
