BEGIN:VCALENDAR
VERSION:2.0
PRODID:-//ChamberMaster//Event Calendar 2.0//EN
METHOD:PUBLISH
X-PUBLISHED-TTL:P1H
REFRESH-INTERVAL:P1H
CALSCALE:GREGORIAN
BEGIN:VTIMEZONE
TZID:America/New_York
BEGIN:DAYLIGHT
RRULE:FREQ=YEARLY;BYMONTH=3;BYDAY=2SU
DTSTART:20070101T000000
TZOFFSETFROM:-0500
TZOFFSETTO:-0400
TZNAME:Eastern Daylight Time
END:DAYLIGHT
BEGIN:STANDARD
RRULE:FREQ=YEARLY;BYMONTH=11;BYDAY=1SU
DTSTART:20070101T000000
TZOFFSETFROM:-0400
TZOFFSETTO:-0500
TZNAME:Eastern Standard Time
END:STANDARD
END:VTIMEZONE
BEGIN:VEVENT
DTSTART;TZID=America/New_York:20260521T120000
DTEND;TZID=America/New_York:20260521T150000
X-MICROSOFT-CDO-ALLDAYEVENT:FALSE
SUMMARY:South Central Pa Go Red for Women
DESCRIPTION:Please join us for the annual Go Red for Women Luncheon. Heart disease is the No. 1 killer of women\, yet so many don't realize their risk. Go Red for Women brings our community together to raise awareness\, support lifesaving research\, and empower women to take charge of their heart health. Join us for an inspiring afternoon of connection\, education\, and impact because together\, we can save lives.  Tickets are required.  Please visit our website for more information.  www.heart.org/southcentralpagored
X-ALT-DESC;FMTTYPE=text/html:<!DOCTYPE html><html><head><title></title></head><body aria-disabled="false" spellcheck="false"><p><span style='color: rgb(1\, 39\, 120)\; font-family: "Open Sans"\, Arial\, sans-serif\; font-size: 14px\; font-style: normal\; font-variant-ligatures: normal\; font-variant-caps: normal\; font-weight: 500\; letter-spacing: 0.35px\; orphans: 2\; text-align: left\; text-indent: 0px\; text-transform: none\; widows: 2\; word-spacing: 0px\; -webkit-text-stroke-width: 0px\; white-space: normal\; background-color: rgb(255\, 255\, 255)\; text-decoration-thickness: initial\; text-decoration-style: initial\; text-decoration-color: initial\; display: inline !important\; float: none\;'>Please join us for the annual&nbsp\;</span><span style='box-sizing: border-box\; margin: 0px\; padding: 0px\; border: 1px\; outline: 0px\; font-size: 14px\; text-size-adjust: 100%\; vertical-align: baseline\; background: rgb(255\, 255\, 255)\; line-height: 1.5em\; font-style: normal\; font-variant: normal\; font-weight: 500\; font-stretch: inherit\; font-family: "Open Sans"\, Arial\, sans-serif\; font-optical-sizing: inherit\; font-size-adjust: inherit\; font-kerning: inherit\; font-feature-settings: inherit\; font-variation-settings: inherit\; font-language-override: inherit\; letter-spacing: 0.35px\; color: rgb(1\, 39\, 120)\; orphans: 2\; text-align: left\; text-indent: 0px\; text-transform: none\; widows: 2\; word-spacing: 0px\; -webkit-text-stroke-width: 0px\; white-space: normal\; text-decoration-thickness: initial\; text-decoration-style: initial\; text-decoration-color: initial\;'>Go Red for Women Luncheon.&nbsp\;</span><span style='color: rgb(1\, 39\, 120)\; font-family: "Open Sans"\, Arial\, sans-serif\; font-size: 14px\; font-style: normal\; font-variant-ligatures: normal\; font-variant-caps: normal\; font-weight: 500\; letter-spacing: 0.35px\; orphans: 2\; text-align: left\; text-indent: 0px\; text-transform: none\; widows: 2\; word-spacing: 0px\; -webkit-text-stroke-width: 0px\; white-space: normal\; background-color: rgb(255\, 255\, 255)\; text-decoration-thickness: initial\; text-decoration-style: initial\; text-decoration-color: initial\; display: inline !important\; float: none\;'>Heart disease is the No. 1 killer of women\, yet so many don&rsquo\;t realize their risk. Go Red for Women brings our community together to raise awareness\, support lifesaving research\, and empower women to take charge of their heart health. Join us for an inspiring afternoon of connection\, education\, and impact&mdash\;because together\, we can save lives. &nbsp\;</span></p><p><span style='color: rgb(1\, 39\, 120)\; font-family: "Open Sans"\, Arial\, sans-serif\; font-size: 14px\; font-style: normal\; font-variant-ligatures: normal\; font-variant-caps: normal\; font-weight: 500\; letter-spacing: 0.35px\; orphans: 2\; text-align: left\; text-indent: 0px\; text-transform: none\; widows: 2\; word-spacing: 0px\; -webkit-text-stroke-width: 0px\; white-space: normal\; background-color: rgb(255\, 255\, 255)\; text-decoration-thickness: initial\; text-decoration-style: initial\; text-decoration-color: initial\; display: inline !important\; float: none\;'>Tickets are required. &nbsp\;</span></p><p><span style='color: rgb(1\, 39\, 120)\; font-family: "Open Sans"\, Arial\, sans-serif\; font-size: 14px\; font-style: normal\; font-variant-ligatures: normal\; font-variant-caps: normal\; font-weight: 500\; letter-spacing: 0.35px\; orphans: 2\; text-align: left\; text-indent: 0px\; text-transform: none\; widows: 2\; word-spacing: 0px\; -webkit-text-stroke-width: 0px\; white-space: normal\; background-color: rgb(255\, 255\, 255)\; text-decoration-thickness: initial\; text-decoration-style: initial\; text-decoration-color: initial\; display: inline !important\; float: none\;'>Please visit our website for more information. &nbsp\;</span></p><p><span style='color: rgb(1\, 39\, 120)\; font-family: "Open Sans"\, Arial\, sans-serif\; font-size: 14px\; font-style: normal\; font-variant-ligatures: normal\; font-variant-caps: normal\; font-weight: 500\; letter-spacing: 0.35px\; orphans: 2\; text-align: left\; text-indent: 0px\; text-transform: none\; widows: 2\; word-spacing: 0px\; -webkit-text-stroke-width: 0px\; white-space: normal\; background-color: rgb(255\, 255\, 255)\; text-decoration-thickness: initial\; text-decoration-style: initial\; text-decoration-color: initial\; display: inline !important\; float: none\;'><a fr-original-style="" href="//www.heart.org/southcentralpagored" style="user-select: auto\; color: inherit\;">www.heart.org/southcentralpagored</a>&nbsp\;</span></p></body></html>
LOCATION:
UID:e.3427.1438799
SEQUENCE:3
DTSTAMP:20260420T040308Z
URL:https://lancasterchamber.growthzoneapp.com/chambereventcalendar/Details/south-central-pa-go-red-for-women-1702998?sourceTypeId=Hub
END:VEVENT
END:VCALENDAR
