BEGIN:VCALENDAR
VERSION:2.0
PRODID:-//ChamberMaster//Event Calendar 2.0//EN
METHOD:PUBLISH
X-PUBLISHED-TTL:P1H
REFRESH-INTERVAL:P1H
CALSCALE:GREGORIAN
BEGIN:VTIMEZONE
TZID:America/New_York
BEGIN:DAYLIGHT
RRULE:FREQ=YEARLY;BYMONTH=3;BYDAY=2SU
DTSTART:20070101T000000
TZOFFSETFROM:-0500
TZOFFSETTO:-0400
TZNAME:Eastern Daylight Time
END:DAYLIGHT
BEGIN:STANDARD
RRULE:FREQ=YEARLY;BYMONTH=11;BYDAY=1SU
DTSTART:20070101T000000
TZOFFSETFROM:-0400
TZOFFSETTO:-0500
TZNAME:Eastern Standard Time
END:STANDARD
END:VTIMEZONE
BEGIN:VEVENT
DTSTART;TZID=America/New_York:20260409T090000
DTEND;TZID=America/New_York:20260409T170000
X-MICROSOFT-CDO-ALLDAYEVENT:FALSE
SUMMARY:Penn State Harrisburg Healthcare Innovation Program
DESCRIPTION:This 2-day workshop will help you translate your healthcare innovations to market ready startup ideas. You do not need to have an existing idea while applying for this workshop. We welcome participants from all range of healthcare innovations\, from passionate to idea stage to existing IP.LEARN MORE: https://ycenter.org/sdg/pennstate
X-ALT-DESC;FMTTYPE=text/html:<!DOCTYPE html><html><head><title></title></head><body aria-disabled="false" data-gr-ext-installed="" data-new-gr-c-s-check-loaded="14.1282.0" data-new-gr-c-s-loaded="14.1282.0" spellcheck="false"><p>This 2-day workshop will help you translate your healthcare innovations to market ready startup ideas. You do not need to have an existing idea while applying for this workshop. We welcome participants from all range of healthcare innovations\, from passionate to idea stage to existing IP.</p><p>LEARN MORE:&nbsp\;<a fr-original-style="" href="https://ycenter.org/sdg/pennstate" style="user-select: auto\;">https://ycenter.org/sdg/pennstate</a></p></body></html>
LOCATION:351 Olmsted Dr Middletown PA 17057
UID:e.3427.1438788
SEQUENCE:3
DTSTAMP:20260420T040317Z
URL:https://lancasterchamber.growthzoneapp.com/chambereventcalendar/Details/penn-state-harrisburg-healthcare-innovation-program-1702988?sourceTypeId=Hub
END:VEVENT
END:VCALENDAR
