BEGIN:VCALENDAR
VERSION:2.0
PRODID:-//ChamberMaster//Event Calendar 2.0//EN
METHOD:PUBLISH
X-PUBLISHED-TTL:P1H
REFRESH-INTERVAL:P1H
CALSCALE:GREGORIAN
BEGIN:VTIMEZONE
TZID:America/New_York
BEGIN:DAYLIGHT
RRULE:FREQ=YEARLY;BYMONTH=3;BYDAY=2SU
DTSTART:20070101T000000
TZOFFSETFROM:-0500
TZOFFSETTO:-0400
TZNAME:Eastern Daylight Time
END:DAYLIGHT
BEGIN:STANDARD
RRULE:FREQ=YEARLY;BYMONTH=11;BYDAY=1SU
DTSTART:20070101T000000
TZOFFSETFROM:-0400
TZOFFSETTO:-0500
TZNAME:Eastern Standard Time
END:STANDARD
END:VTIMEZONE
BEGIN:VEVENT
DTSTART;TZID=America/New_York:20260515T120000
DTEND;TZID=America/New_York:20260515T130000
X-MICROSOFT-CDO-ALLDAYEVENT:FALSE
SUMMARY:Becoming a CASA In-person Info Session
DESCRIPTION:Thank you for your interest in Court Appointed Special Advocates (CASA) of Lancaster and Lebanon Counties. Our Becoming a CASA In-person Information Session will cover the history of CASA\, the role and duties of a CASA\, and next steps to joining our program. A current CASA will also be at the session to share their experiences. The session will be approximately 30-45 minutes in duration.LEARN MORE: https://www.casalancleb.org/news-events/event-calendar.html/event/2026/05/15/becoming-a-casa-in-person-info-session/558480
X-ALT-DESC;FMTTYPE=text/html:<!DOCTYPE html><html><head><title></title></head><body aria-disabled="false" spellcheck="false"><p>Thank you for your interest in Court Appointed Special Advocates (CASA) of Lancaster and Lebanon Counties. Our Becoming a CASA In-person Information Session will cover the history of CASA\, the role and duties of a CASA\, and next steps to joining our program. A current CASA will also be at the session to share their experiences. The session will be approximately 30-45 minutes in duration.</p><p>LEARN MORE:&nbsp\;<a fr-original-style="" href="https://www.casalancleb.org/news-events/event-calendar.html/event/2026/05/15/becoming-a-casa-in-person-info-session/558480" style="user-select: auto\;">https://www.casalancleb.org/news-events/event-calendar.html/event/2026/05/15/becoming-a-casa-in-person-info-session/558480</a></p></body></html>
LOCATION:
UID:e.3427.1442578
SEQUENCE:3
DTSTAMP:20260420T041804Z
URL:https://lancasterchamber.growthzoneapp.com/chambereventcalendar/Details/becoming-a-casa-in-person-info-session-1708619?sourceTypeId=Hub
END:VEVENT
END:VCALENDAR
