BEGIN:VCALENDAR
VERSION:2.0
PRODID:-//ChamberMaster//Event Calendar 2.0//EN
METHOD:PUBLISH
X-PUBLISHED-TTL:P1H
REFRESH-INTERVAL:P1H
CALSCALE:GREGORIAN
BEGIN:VTIMEZONE
TZID:America/New_York
BEGIN:DAYLIGHT
RRULE:FREQ=YEARLY;BYMONTH=3;BYDAY=2SU
DTSTART:20070101T000000
TZOFFSETFROM:-0500
TZOFFSETTO:-0400
TZNAME:Eastern Daylight Time
END:DAYLIGHT
BEGIN:STANDARD
RRULE:FREQ=YEARLY;BYMONTH=11;BYDAY=1SU
DTSTART:20070101T000000
TZOFFSETFROM:-0400
TZOFFSETTO:-0500
TZNAME:Eastern Standard Time
END:STANDARD
END:VTIMEZONE
BEGIN:VEVENT
DTSTART;TZID=America/New_York:20260501T170000
DTEND;TZID=America/New_York:20260501T190000
X-MICROSOFT-CDO-ALLDAYEVENT:FALSE
SUMMARY:Author Visit and Book Signing with Marian M.H. Rutt
DESCRIPTION:Join us for another fun filled First Friday at the Heart Gallery & Market! 💙 This time with an exclusive book signing with respected author and Friendship Community mom\, Marian M.H. Rutt. I Can't Do This! I Can. is a heartfelt memoir by Marian M. H. Rutt\, who has a personal connection to Friendship Community through her son\, an experience she reflects on in her book. Marian Rutt's world changed in a single hour\, causing her to cry out\, "I CAN'T DO THIS!" But\, by living one day at a time\, she made her way towards resilience\, renewal\, and success-and finally found a way to say\, "I CAN!" She reminds us of that strength often whispers instead of shouts as she invites readers into the joys and heartbreaks of family life. This is more than just one woman's story-it's a tribute to every caregiver and person who's ever whispered\, "I can't do this\," and then found a way forward.
X-ALT-DESC;FMTTYPE=text/html:<!DOCTYPE html><html><head><title></title></head><body aria-disabled="false"><p>Join us for another fun filled First Friday at the Heart Gallery &amp\; Market! 💙 This time with an exclusive book signing with respected author and Friendship Community mom\, Marian M.H. Rutt.&nbsp\;</p><p><em>I Can&rsquo\;t Do This! I Can.&nbsp\;</em>is a heartfelt memoir by Marian M. H. Rutt\, who has a personal connection to Friendship Community through her son\, an experience she reflects on in her book.&nbsp\;</p><p>Marian Rutt&rsquo\;s world changed in a single hour\, causing her to cry out\, &ldquo\;I CAN&rsquo\;T DO THIS!&rdquo\; But\, by living one day at a time\, she made her way towards resilience\, renewal\, and success-and finally found a way to say\, &ldquo\;I CAN!&rdquo\; She reminds us of that strength often whispers instead of shouts as she invites readers into the joys and heartbreaks of family life. This is more than just one woman&rsquo\;s story-it&rsquo\;s a tribute to every caregiver and person who&rsquo\;s ever whispered\, &ldquo\;I can&rsquo\;t do this\,&rdquo\; and then found a way forward.</p></body></html>
LOCATION:118 N Water St.\, Suite 102 Lancaster PA 17603
UID:e.3427.1442830
SEQUENCE:3
DTSTAMP:20260420T040308Z
URL:https://lancasterchamber.growthzoneapp.com/chambereventcalendar/Details/author-visit-and-book-signing-with-marian-m-h-rutt-1708958?sourceTypeId=Hub
END:VEVENT
END:VCALENDAR
