BEGIN:VCALENDAR
VERSION:2.0
PRODID:-//ChamberMaster//Event Calendar 2.0//EN
METHOD:PUBLISH
X-PUBLISHED-TTL:P1H
REFRESH-INTERVAL:P1H
CALSCALE:GREGORIAN
BEGIN:VTIMEZONE
TZID:America/New_York
BEGIN:DAYLIGHT
RRULE:FREQ=YEARLY;BYMONTH=3;BYDAY=2SU
DTSTART:20070101T000000
TZOFFSETFROM:-0500
TZOFFSETTO:-0400
TZNAME:Eastern Daylight Time
END:DAYLIGHT
BEGIN:STANDARD
RRULE:FREQ=YEARLY;BYMONTH=11;BYDAY=1SU
DTSTART:20070101T000000
TZOFFSETFROM:-0400
TZOFFSETTO:-0500
TZNAME:Eastern Standard Time
END:STANDARD
END:VTIMEZONE
BEGIN:VEVENT
DTSTART;TZID=America/New_York:20260519T100000
DTEND;TZID=America/New_York:20260520T120000
X-MICROSOFT-CDO-ALLDAYEVENT:FALSE
SUMMARY:AI at Work: Smarter Tools\, Better Results (Live Virtual Training)
DESCRIPTION:AI at Work: Smarter Tools\, Better Results (Live Virtual Training)\nCost: $129 per participantHACC is excited to introduce a new hands-on training designed to help professionals and businesses work smarter with AI.This beginner-friendly\, two-part live virtual series will show you how to use AI tools to save time\, increase productivity\, and streamline everyday tasks.What You'll Learn:\n  How to write effective prompts for better AI results\n  Ways to use AI to draft emails\, create content\, and simplify daily work\n  How to analyze data more efficiently\n  When to use tools like ChatGPT vs. Microsoft Copilot\n  How AI integrates with Microsoft 365 (Excel\, Outlook\, Teams\, PowerPoint\, and more)\n  Practical strategies to incorporate AI into your workflowThis training is designed for all experience levels and focuses on real-world application you can use immediately.Daytime Option\nMay 19 & May 20\n10:00 AM   12:00 PM (via Zoom)\nRegister: https://onlinewfd.hacc.edu/product?catalog=202690_61555Instructor: Micah BiasThis is a live\, interactive virtual training.Who Should Attend:\nProfessionals\, supervisors\, and business teams looking to improve efficiency and stay competitive in today's evolving workplace.For Employers:\nThis training can also be customized for your team\, tools\, and workflows. Contact us to learn more.Registration is limited. Early sign-up is encouraged.
X-ALT-DESC;FMTTYPE=text/html:<!DOCTYPE html><html><head><title></title></head><body aria-disabled="false"><p data-end="180" data-start="76"><strong data-end="145" data-start="76" fr-original-style="" style="font-weight: 700\;">AI at Work: Smarter Tools\, Better Results (Live Virtual Training)</strong><br data-start="145" data-end="148"><strong data-end="178" data-start="148" fr-original-style="" style="font-weight: 700\;">Cost: $129 per participant</strong></p><p data-end="326" data-start="182">HACC is excited to introduce a new hands-on training designed to help professionals and businesses work smarter with AI.</p><p data-end="484" data-start="328">This beginner-friendly\, two-part live virtual series will show you how to use AI tools to save time\, increase productivity\, and streamline everyday tasks.</p><p data-end="890" data-start="486"><strong data-end="508" data-start="486" fr-original-style="" style="font-weight: 700\;">What You&rsquo\;ll Learn:</strong><br data-start="508" data-end="511">&bull\; How to write effective prompts for better AI results<br data-start="565" data-end="568">&bull\; Ways to use AI to draft emails\, create content\, and simplify daily work<br data-start="641" data-end="644">&bull\; How to analyze data more efficiently<br data-start="682" data-end="685">&bull\; When to use tools like ChatGPT vs. Microsoft Copilot<br data-start="739" data-end="742">&bull\; How AI integrates with Microsoft 365 (Excel\, Outlook\, Teams\, PowerPoint\, and more)<br data-start="826" data-end="829">&bull\; Practical strategies to incorporate AI into your workflow</p><p data-end="1008" data-start="892">This training is designed for all experience levels and focuses on real-world application you can use immediately.</p><p data-end="1350" data-start="1211"><strong data-end="1229" data-start="1211" fr-original-style="" style="font-weight: 700\;">Daytime Option</strong><br data-start="1229" data-end="1232">May 19 &amp\; May 20<br data-start="1247" data-end="1250">10:00 AM &ndash\; 12:00 PM (via Zoom)<br data-start="1280" data-end="1283">Register: <a data-end="1348" data-start="1293" fr-original-style="" href="https://onlinewfd.hacc.edu/product?catalog=202690_61555" rel="noopener" style="user-select: auto\;" target="_new">https://onlinewfd.hacc.edu/product?catalog=202690_61555</a></p><p data-end="1385" data-start="1357"><strong data-end="1372" data-start="1357" fr-original-style="" style="font-weight: 700\;">Instructor:</strong> Micah Bias</p><p data-end="1434" data-start="1387">This is a live\, interactive virtual training.</p><p data-end="1591" data-start="1436"><strong data-end="1458" data-start="1436" fr-original-style="" style="font-weight: 700\;">Who Should Attend:</strong><br data-start="1458" data-end="1461">Professionals\, supervisors\, and business teams looking to improve efficiency and stay competitive in today&rsquo\;s evolving workplace.</p><p data-end="1720" data-start="1598"><strong data-end="1616" data-start="1598" fr-original-style="" style="font-weight: 700\;">For Employers:</strong><br data-start="1616" data-end="1619">This training can also be customized for your team\, tools\, and workflows. Contact us to learn more.</p><p data-end="1784" data-is-last-node="" data-is-only-node="" data-start="1727"><strong data-end="1784" data-is-last-node="" data-start="1727" fr-original-style="" style="font-weight: 700\;">Registration is limited. Early sign-up is encouraged.</strong></p></body></html>
LOCATION:
UID:e.3427.1442714
SEQUENCE:3
DTSTAMP:20260420T040320Z
URL:https://lancasterchamber.growthzoneapp.com/chambereventcalendar/Details/ai-at-work-smarter-tools-better-results-live-virtual-training-1708777?sourceTypeId=Hub
END:VEVENT
END:VCALENDAR
